BEGIN:VCALENDAR
VERSION:2.0
PRODID:-//Ylistys.fi - ECPv6.15.15//NONSGML v1.0//EN
CALSCALE:GREGORIAN
METHOD:PUBLISH
X-ORIGINAL-URL:https://ylistys.fi
X-WR-CALDESC:Tapahtumat Ylistys.fi
REFRESH-INTERVAL;VALUE=DURATION:PT1H
X-Robots-Tag:noindex
X-PUBLISHED-TTL:PT1H
BEGIN:VTIMEZONE
TZID:Europe/Helsinki
BEGIN:DAYLIGHT
TZOFFSETFROM:+0200
TZOFFSETTO:+0300
TZNAME:EEST
DTSTART:20250330T010000
END:DAYLIGHT
BEGIN:STANDARD
TZOFFSETFROM:+0300
TZOFFSETTO:+0200
TZNAME:EET
DTSTART:20251026T010000
END:STANDARD
BEGIN:DAYLIGHT
TZOFFSETFROM:+0200
TZOFFSETTO:+0300
TZNAME:EEST
DTSTART:20260329T010000
END:DAYLIGHT
BEGIN:STANDARD
TZOFFSETFROM:+0300
TZOFFSETTO:+0200
TZNAME:EET
DTSTART:20261025T010000
END:STANDARD
BEGIN:DAYLIGHT
TZOFFSETFROM:+0200
TZOFFSETTO:+0300
TZNAME:EEST
DTSTART:20270328T010000
END:DAYLIGHT
BEGIN:STANDARD
TZOFFSETFROM:+0300
TZOFFSETTO:+0200
TZNAME:EET
DTSTART:20271031T010000
END:STANDARD
END:VTIMEZONE
BEGIN:VEVENT
DTSTART;TZID=Europe/Helsinki:20260418T090000
DTEND;TZID=Europe/Helsinki:20260418T193000
DTSTAMP:20260420T043418
CREATED:20260409T091446Z
LAST-MODIFIED:20260409T091928Z
UID:1781-1776502800-1776540600@ylistys.fi
SUMMARY:Puutarhatalkoot Metsähovissa
DESCRIPTION:Tervetuloa Metsähovin tilalle Ylistys.fi ry:n järjestämiin puutarhatalkoisiin Lauantaina 18.4.! \nTilaa hoitavat Jyrki ja Sari Hovi\, joilla on pitkäaikainen näky tilasta ylistyksen paikkana. (Järjestämme tilalla myös ylistyksen ja yhteyden päivän Lauantaina 16.5.) \nOsoite: Tapiolantie 41\, Pornainen \n09.00 aamupalaa\n09.30 ylistystä\n10.00 talkoopuuhia\n11.30 lounas\n12.00 talkoopuuhia\n13.30 kahvi\n14.00 talkoopuuhia\n15.30 päivällinen\n16.30- ylistystä \nIllalla sauna on lämmin lammen rannalla\, uintia\, makkaraa grillissä. \n17.30-18.30 naisten sauna\n18.30- miesten sauna \nIlmoittautumiset (sis. ruokarajoitteet) Riitalle\n0504871661
URL:https://ylistys.fi/tapahtuma/puutarhatalkoot-metsahovissa/
LOCATION:Metsähovin tila\, Tapiolantie 41\, Pornainen\, 07170
ATTACH;FMTTYPE=image/jpeg:https://ylistys.fi/wp-content/uploads/2024/05/farm-2023-11-27-05-01-45-utc-e1715692609903.jpg
END:VEVENT
BEGIN:VEVENT
DTSTART;TZID=Europe/Helsinki:20260516T120000
DTEND;TZID=Europe/Helsinki:20260516T190000
DTSTAMP:20260420T043418
CREATED:20260409T092135Z
LAST-MODIFIED:20260409T104013Z
UID:1785-1778932800-1778958000@ylistys.fi
SUMMARY:Ylistyksen ja yhteyden lauantai Metsähovin tilalla
DESCRIPTION:Tervetuloa Ylistyksen ja yhteyden lauantaihin Metsähovin tilalle la 16.5.2026! Jaamme ajankohtaista puhetta Jumalan sydämeltä. Vietämme aikaa Herran edessä ylistyksessä ja rukouksessa\, ja toistemme kanssa\, nauttien Herran hyvyydestä. \nAikataulu\nKlo 13 Lounas\nKlo 14-15.30 Ylistystä ja rukousta\nKlo 15.30 Kahvit: suolaista ja makeaa\nKlo 16-17 Ylistystä ja rukousta\nKlo 17 Grillausta\, Sauna ja uinti \nKlo17.00-18.30 Naisten saunavuoro\nKlo 18.30-20.00 Miesten saunavuoro
URL:https://ylistys.fi/tapahtuma/yhteys-ja-ylistyspaiva-metsahovissa/
LOCATION:Metsähovin tila\, Tapiolantie 41\, Pornainen\, 07170
ATTACH;FMTTYPE=image/avif:https://ylistys.fi/wp-content/uploads/2026/04/metsahovin_tila_sauna.avif
END:VEVENT
END:VCALENDAR